BEGIN:VCALENDAR
VERSION:2.0
PRODID:-//Courage Cheer and Dance United - ECPv6.15.17//NONSGML v1.0//EN
CALSCALE:GREGORIAN
METHOD:PUBLISH
X-ORIGINAL-URL:https://couragecheer.com
X-WR-CALDESC:Events for Courage Cheer and Dance United
REFRESH-INTERVAL;VALUE=DURATION:PT1H
X-Robots-Tag:noindex
X-PUBLISHED-TTL:PT1H
BEGIN:VTIMEZONE
TZID:UTC
BEGIN:STANDARD
TZOFFSETFROM:+0000
TZOFFSETTO:+0000
TZNAME:UTC
DTSTART:20250101T000000
END:STANDARD
END:VTIMEZONE
BEGIN:VEVENT
DTSTART;TZID=UTC:20260316T090000
DTEND;TZID=UTC:20260320T180000
DTSTAMP:20260420T111109
CREATED:20250625T014953Z
LAST-MODIFIED:20250808T185121Z
UID:10000029-1773651600-1774029600@couragecheer.com
SUMMARY:Spring Break Camp
DESCRIPTION:Spring Break Camp is the ultimate way to spend your week off! Campers will enjoy a full day of games\, crafts\, movie time\, and so much more\, all while making new friends and staying active. Each camper gets to choose a specialty class—Ninja\, Cheer\, Dance\, or Tumbling—so they can focus on what they love most. Please bring a lunch\, snack\, and water bottle to stay fueled for the day. \nDrop-off for camp begins at 8:55 a.m.\, with camp running from 9 a.m. to 6 p.m. Need to start your day earlier? Early drop-off is available starting at 7 a.m.\, with doors opening at 6:55 a.m.\, giving families a flexible and convenient option for their spring break plans. \n[vc_btn title=”REGISTER HERE” style=”custom” custom_background=”#fb0404″ custom_text=”#fff” align=”center” css_animation=”flipInX” button_block=”true” link=”url:portal.iclasspro.com/couragecheer/camps/1?sortBy=time|title:Register%20Here”]\n  \n  \n 
URL:https://couragecheer.com/event/spring-break-camp/
CATEGORIES:Camps
ATTACH;FMTTYPE=image/png:https://couragecheer.com/wp-content/uploads/2025/06/Untitled-design-2025-08-08T114714.979.png
END:VEVENT
END:VCALENDAR